BEGIN:VCALENDAR
VERSION:2.0
PRODID:-//True Health - ECPv6.15.20//NONSGML v1.0//EN
CALSCALE:GREGORIAN
METHOD:PUBLISH
X-ORIGINAL-URL:https://www.mytruehealth.org
X-WR-CALDESC:Events for True Health
REFRESH-INTERVAL;VALUE=DURATION:PT1H
X-Robots-Tag:noindex
X-PUBLISHED-TTL:PT1H
BEGIN:VTIMEZONE
TZID:America/New_York
BEGIN:DAYLIGHT
TZOFFSETFROM:-0500
TZOFFSETTO:-0400
TZNAME:EDT
DTSTART:20240310T070000
END:DAYLIGHT
BEGIN:STANDARD
TZOFFSETFROM:-0400
TZOFFSETTO:-0500
TZNAME:EST
DTSTART:20241103T060000
END:STANDARD
BEGIN:DAYLIGHT
TZOFFSETFROM:-0500
TZOFFSETTO:-0400
TZNAME:EDT
DTSTART:20250309T070000
END:DAYLIGHT
BEGIN:STANDARD
TZOFFSETFROM:-0400
TZOFFSETTO:-0500
TZNAME:EST
DTSTART:20251102T060000
END:STANDARD
BEGIN:DAYLIGHT
TZOFFSETFROM:-0500
TZOFFSETTO:-0400
TZNAME:EDT
DTSTART:20260308T070000
END:DAYLIGHT
BEGIN:STANDARD
TZOFFSETFROM:-0400
TZOFFSETTO:-0500
TZNAME:EST
DTSTART:20261101T060000
END:STANDARD
END:VTIMEZONE
BEGIN:VEVENT
DTSTART;TZID=America/New_York:20250120T080000
DTEND;TZID=America/New_York:20250120T140000
DTSTAMP:20260423T134512
CREATED:20241202T150605Z
LAST-MODIFIED:20241202T150615Z
UID:10000434-1737360000-1737381600@www.mytruehealth.org
SUMMARY:United Methodist Church - Medical Unit
DESCRIPTION:True Health’s mobile Medical Unit will be present at United Methodist Church in New Smyrna\, FL   to provide onsite medical services and information about additional True Health services and FL Kid Care. Open to the public.
URL:https://www.mytruehealth.org/event/united-methodist-church-medical-unit-2/2025-01-20/
LOCATION:301 Douglas St\, New Smyrna Beach\, Florida\, 32168\, 301 Douglas St\,\, New Smyrna Beach\,\, FL\, 32168\, United States
ATTACH;FMTTYPE=image/png:https://www.mytruehealth.org/wp-content/uploads/2024/07/MEDICAL-UNIT.png
END:VEVENT
BEGIN:VEVENT
DTSTART;TZID=America/New_York:20250120T100000
DTEND;TZID=America/New_York:20250120T100000
DTSTAMP:20260423T134512
CREATED:20250106T165808Z
LAST-MODIFIED:20250106T165921Z
UID:10000835-1737367200-1737367200@www.mytruehealth.org
SUMMARY:Sanford MLK Day Parade
DESCRIPTION:True Health is excited to participate in the Annual Dr. MLK Jr. Parade of the City of Sanford honoring Dr. King’s legacy on Monday\, January 20th\, starting at 10AM! Make sure to cheer on our True Health team. We hope to see you there! \n 
URL:https://www.mytruehealth.org/event/sanford-mlk-day-parade/
LOCATION:2200 Historic Goldsboro Blvd\, 2200 Historic Goldsboro Blvd\, Sanford\, FL\, 32771
CATEGORIES:Outreach Event
ATTACH;FMTTYPE=image/png:https://www.mytruehealth.org/wp-content/uploads/2025/01/MLK-Parade-Jan-20.png
END:VEVENT
END:VCALENDAR